Package: moanin Version: 1.12.0 Command: rm -rf moanin.buildbin-libdir && mkdir moanin.buildbin-libdir && E:\biocbuild\bbs-3.19-bioc\R\bin\R.exe CMD INSTALL --build --library=moanin.buildbin-libdir moanin_1.12.0.tar.gz StartedAt: 2024-10-17 08:09:51 -0400 (Thu, 17 Oct 2024) EndedAt: 2024-10-17 08:10:42 -0400 (Thu, 17 Oct 2024) EllapsedTime: 50.8 seconds RetCode: 0 Status: OK PackageFile: moanin_1.12.0.zip PackageFileSize: 923.3 KiB