Package: moanin Version: 1.12.0 Command: chmod a+r moanin -R && F:\biocbuild\bbs-3.19-bioc\R\bin\R.exe CMD build --keep-empty-dirs --no-resave-data moanin StartedAt: 2024-06-26 20:09:51 -0400 (Wed, 26 Jun 2024) EndedAt: 2024-06-26 20:11:36 -0400 (Wed, 26 Jun 2024) EllapsedTime: 105.4 seconds RetCode: 0 Status: OK PackageFile: moanin_1.12.0.tar.gz PackageFileSize: 477.5 KiB