Package: moanin Version: 1.12.0 Command: rm -rf moanin.buildbin-libdir && mkdir moanin.buildbin-libdir && F:\biocbuild\bbs-3.19-bioc\R\bin\R.exe CMD INSTALL --build --library=moanin.buildbin-libdir moanin_1.12.0.tar.gz StartedAt: 2024-06-27 08:31:42 -0400 (Thu, 27 Jun 2024) EndedAt: 2024-06-27 08:32:35 -0400 (Thu, 27 Jun 2024) EllapsedTime: 52.5 seconds RetCode: 0 Status: OK PackageFile: moanin_1.12.0.zip PackageFileSize: 923.2 KiB