Package: moanin Version: 1.12.0 Command: /home/biocbuild/bbs-3.19-bioc/R/bin/R CMD build --keep-empty-dirs --no-resave-data moanin StartedAt: 2024-10-16 19:33:42 -0400 (Wed, 16 Oct 2024) EndedAt: 2024-10-16 19:34:51 -0400 (Wed, 16 Oct 2024) EllapsedTime: 69.2 seconds RetCode: 0 Status: OK PackageFile: moanin_1.12.0.tar.gz PackageFileSize: 516.4 KiB