Package: moanin Version: 1.12.0 Command: /Library/Frameworks/R.framework/Resources/bin/R CMD check --install=check:moanin.install-out.txt --library=/Library/Frameworks/R.framework/Resources/library --no-vignettes --timings moanin_1.12.0.tar.gz StartedAt: 2024-10-17 08:58:55 -0400 (Thu, 17 Oct 2024) EndedAt: 2024-10-17 09:16:32 -0400 (Thu, 17 Oct 2024) EllapsedTime: 1057.3 seconds RetCode: 0 Status: OK CheckDir: moanin.Rcheck Warnings: 0