Package: moanin Version: 1.12.0 Command: /Library/Frameworks/R.framework/Resources/bin/R CMD build --keep-empty-dirs --no-resave-data moanin StartedAt: 2024-10-16 21:04:34 -0400 (Wed, 16 Oct 2024) EndedAt: 2024-10-16 21:08:22 -0400 (Wed, 16 Oct 2024) EllapsedTime: 228.2 seconds RetCode: 0 Status: OK PackageFile: moanin_1.12.0.tar.gz PackageFileSize: 555.6 KiB