Package: moanin Version: 1.12.0 Command: /Library/Frameworks/R.framework/Resources/bin/R CMD check --install=check:moanin.install-out.txt --library=/Library/Frameworks/R.framework/Resources/library --no-vignettes --timings moanin_1.12.0.tar.gz StartedAt: 2024-06-09 21:37:03 -0400 (Sun, 09 Jun 2024) EndedAt: 2024-06-09 21:42:23 -0400 (Sun, 09 Jun 2024) EllapsedTime: 320.1 seconds RetCode: 0 Status: OK CheckDir: moanin.Rcheck Warnings: 0