Package: moanin Version: 1.12.0 Command: /Library/Frameworks/R.framework/Resources/bin/R CMD check --install=check:moanin.install-out.txt --library=/Library/Frameworks/R.framework/Resources/library --no-vignettes --timings moanin_1.12.0.tar.gz StartedAt: 2024-06-10 22:32:34 -0400 (Mon, 10 Jun 2024) EndedAt: 2024-06-10 22:41:30 -0400 (Mon, 10 Jun 2024) EllapsedTime: 535.9 seconds RetCode: 0 Status: OK CheckDir: moanin.Rcheck Warnings: 0