Package: moanin Version: 1.12.0 Command: /Library/Frameworks/R.framework/Resources/bin/R CMD check --install=check:moanin.install-out.txt --library=/Library/Frameworks/R.framework/Resources/library --no-vignettes --timings moanin_1.12.0.tar.gz StartedAt: 2024-10-18 04:31:59 -0400 (Fri, 18 Oct 2024) EndedAt: 2024-10-18 04:37:43 -0400 (Fri, 18 Oct 2024) EllapsedTime: 344.2 seconds RetCode: 0 Status: OK CheckDir: moanin.Rcheck Warnings: 0