Package: moanin Version: 1.12.0 Command: /Library/Frameworks/R.framework/Resources/bin/R CMD build --keep-empty-dirs --no-resave-data moanin StartedAt: 2024-10-17 04:50:37 -0400 (Thu, 17 Oct 2024) EndedAt: 2024-10-17 04:52:20 -0400 (Thu, 17 Oct 2024) EllapsedTime: 103.5 seconds RetCode: 0 Status: OK PackageFile: moanin_1.12.0.tar.gz PackageFileSize: 555.6 KiB