Package: mnem Version: 1.20.0 Command: E:\biocbuild\bbs-3.19-bioc\R\bin\R.exe CMD INSTALL mnem StartedAt: 2024-10-16 17:09:36 -0400 (Wed, 16 Oct 2024) EndedAt: 2024-10-16 17:10:45 -0400 (Wed, 16 Oct 2024) EllapsedTime: 69.0 seconds RetCode: 0 Status: OK