Package: mnem Version: 1.20.0 Command: chmod a+r mnem -R && E:\biocbuild\bbs-3.19-bioc\R\bin\R.exe CMD build --keep-empty-dirs --no-resave-data mnem StartedAt: 2024-10-16 20:23:46 -0400 (Wed, 16 Oct 2024) EndedAt: 2024-10-16 20:25:13 -0400 (Wed, 16 Oct 2024) EllapsedTime: 86.9 seconds RetCode: 0 Status: OK PackageFile: mnem_1.20.0.tar.gz PackageFileSize: 2.61 MiB