Package: mnem Version: 1.20.0 Command: rm -rf mnem.buildbin-libdir && mkdir mnem.buildbin-libdir && F:\biocbuild\bbs-3.19-bioc\R\bin\R.exe CMD INSTALL --build --library=mnem.buildbin-libdir mnem_1.20.0.tar.gz StartedAt: 2024-06-27 08:31:40 -0400 (Thu, 27 Jun 2024) EndedAt: 2024-06-27 08:32:33 -0400 (Thu, 27 Jun 2024) EllapsedTime: 52.5 seconds RetCode: 0 Status: OK PackageFile: mnem_1.20.0.zip PackageFileSize: 3.625 MiB