Package: mnem Version: 1.20.0 Command: rm -rf mnem.buildbin-libdir && mkdir mnem.buildbin-libdir && /Users/biocbuild/BBS/utils/build-universal.sh mnem_1.20.0.tar.gz /Library/Frameworks/R.framework/Resources/bin/R mnem.buildbin-libdir StartedAt: 2024-10-18 19:30:33 -0400 (Fri, 18 Oct 2024) EndedAt: 2024-10-18 19:31:18 -0400 (Fri, 18 Oct 2024) EllapsedTime: 44.9 seconds RetCode: 0 Status: OK PackageFile: mnem_1.20.0.tgz PackageFileSize: 5.516 MiB