Package: mixOmics Version: 6.28.0 Command: E:\biocbuild\bbs-3.19-bioc\R\bin\R.exe CMD INSTALL mixOmics StartedAt: 2024-10-16 16:13:33 -0400 (Wed, 16 Oct 2024) EndedAt: 2024-10-16 16:14:48 -0400 (Wed, 16 Oct 2024) EllapsedTime: 75.5 seconds RetCode: 0 Status: OK