Package: mixOmics Version: 6.28.0 Command: chmod a+r mixOmics -R && E:\biocbuild\bbs-3.19-bioc\R\bin\R.exe CMD build --keep-empty-dirs --no-resave-data mixOmics StartedAt: 2024-10-16 20:22:05 -0400 (Wed, 16 Oct 2024) EndedAt: 2024-10-16 20:35:04 -0400 (Wed, 16 Oct 2024) EllapsedTime: 778.9 seconds RetCode: 0 Status: OK PackageFile: mixOmics_6.28.0.tar.gz PackageFileSize: 11.64 MiB