Package: mixOmics Version: 6.28.0 Command: rm -rf mixOmics.buildbin-libdir && mkdir mixOmics.buildbin-libdir && E:\biocbuild\bbs-3.19-bioc\R\bin\R.exe CMD INSTALL --build --library=mixOmics.buildbin-libdir mixOmics_6.28.0.tar.gz StartedAt: 2024-10-17 08:09:35 -0400 (Thu, 17 Oct 2024) EndedAt: 2024-10-17 08:10:54 -0400 (Thu, 17 Oct 2024) EllapsedTime: 78.7 seconds RetCode: 0 Status: OK PackageFile: mixOmics_6.28.0.zip PackageFileSize: 11.38 MiB