Package: mixOmics Version: 6.28.0 Command: /Library/Frameworks/R.framework/Resources/bin/R CMD build --keep-empty-dirs --no-resave-data mixOmics StartedAt: 2024-06-10 00:45:39 -0400 (Mon, 10 Jun 2024) EndedAt: 2024-06-10 01:00:37 -0400 (Mon, 10 Jun 2024) EllapsedTime: 898.3 seconds RetCode: 0 Status: OK PackageFile: mixOmics_6.28.0.tar.gz PackageFileSize: 19.67 MiB