Package: mixOmics Version: 6.28.0 Command: rm -rf mixOmics.buildbin-libdir && mkdir mixOmics.buildbin-libdir && /Users/biocbuild/BBS/utils/build-universal.sh mixOmics_6.28.0.tar.gz /Library/Frameworks/R.framework/Resources/bin/R mixOmics.buildbin-libdir StartedAt: 2024-06-11 12:06:18 -0400 (Tue, 11 Jun 2024) EndedAt: 2024-06-11 12:07:27 -0400 (Tue, 11 Jun 2024) EllapsedTime: 68.7 seconds RetCode: 0 Status: OK PackageFile: mixOmics_6.28.0.tgz PackageFileSize: 19.41 MiB