Package: mitch Version: 1.16.1 Command: E:\biocbuild\bbs-3.19-bioc\R\bin\R.exe CMD INSTALL mitch StartedAt: 2024-10-16 16:44:22 -0400 (Wed, 16 Oct 2024) EndedAt: 2024-10-16 16:44:38 -0400 (Wed, 16 Oct 2024) EllapsedTime: 16.8 seconds RetCode: 0 Status: OK