Package: mitch Version: 1.16.1 Command: chmod a+r mitch -R && E:\biocbuild\bbs-3.19-bioc\R\bin\R.exe CMD build --keep-empty-dirs --no-resave-data mitch StartedAt: 2024-10-16 20:21:45 -0400 (Wed, 16 Oct 2024) EndedAt: 2024-10-16 20:30:27 -0400 (Wed, 16 Oct 2024) EllapsedTime: 521.4 seconds RetCode: 0 Status: OK PackageFile: mitch_1.16.1.tar.gz PackageFileSize: 996 KiB