Package: mitch Version: 1.16.1 Command: /home/biocbuild/bbs-3.19-bioc/R/bin/R CMD INSTALL mitch StartedAt: 2024-10-16 16:19:27 -0400 (Wed, 16 Oct 2024) EndedAt: 2024-10-16 16:19:33 -0400 (Wed, 16 Oct 2024) EllapsedTime: 6.0 seconds RetCode: 0 Status: OK