Package: mitch Version: 1.16.1 Command: /home/biocbuild/bbs-3.19-bioc/R/bin/R CMD check --install=check:mitch.install-out.txt --library=/home/biocbuild/bbs-3.19-bioc/R/site-library --timings mitch_1.16.1.tar.gz StartedAt: 2024-10-17 02:34:01 -0400 (Thu, 17 Oct 2024) EndedAt: 2024-10-17 02:42:58 -0400 (Thu, 17 Oct 2024) EllapsedTime: 537.0 seconds RetCode: 0 Status: OK CheckDir: mitch.Rcheck Warnings: 0