Package: mitch Version: 1.16.0 Command: /Library/Frameworks/R.framework/Resources/bin/R CMD build --keep-empty-dirs --no-resave-data mitch StartedAt: 2024-06-09 17:18:13 -0400 (Sun, 09 Jun 2024) EndedAt: 2024-06-09 17:28:39 -0400 (Sun, 09 Jun 2024) EllapsedTime: 625.6 seconds RetCode: 0 Status: OK PackageFile: mitch_1.16.0.tar.gz PackageFileSize: 413.2 KiB