Package: mitch Version: 1.16.0 Command: rm -rf mitch.buildbin-libdir && mkdir mitch.buildbin-libdir && /Users/biocbuild/BBS/utils/build-universal.sh mitch_1.16.0.tar.gz /Library/Frameworks/R.framework/Resources/bin/R mitch.buildbin-libdir StartedAt: 2024-06-10 00:27:34 -0400 (Mon, 10 Jun 2024) EndedAt: 2024-06-10 00:27:46 -0400 (Mon, 10 Jun 2024) EllapsedTime: 11.2 seconds RetCode: 0 Status: OK PackageFile: mitch_1.16.0.tgz PackageFileSize: 539.5 KiB