Package: mitch Version: 1.16.0 Command: /home/biocbuild/R/R-beta-2024-04-15_r86425/bin/R CMD check --install=check:mitch.install-out.txt --library=/home/biocbuild/R/R-beta-2024-04-15_r86425/site-library --no-vignettes --timings mitch_1.16.0.tar.gz StartedAt: 2024-05-09 09:33:10 -0000 (Thu, 09 May 2024) EndedAt: 2024-05-09 09:37:59 -0000 (Thu, 09 May 2024) EllapsedTime: 289.5 seconds RetCode: 0 Status: WARNINGS CheckDir: mitch.Rcheck Warnings: 1