Package: mitch Version: 1.16.0 Command: /Library/Frameworks/R.framework/Resources/bin/R CMD INSTALL mitch StartedAt: 2024-06-09 16:23:11 -0400 (Sun, 09 Jun 2024) EndedAt: 2024-06-09 16:23:22 -0400 (Sun, 09 Jun 2024) EllapsedTime: 11.0 seconds RetCode: 0 Status: OK