Package: mitch Version: 1.16.1 Command: /Library/Frameworks/R.framework/Resources/bin/R CMD INSTALL mitch StartedAt: 2024-10-16 17:20:20 -0400 (Wed, 16 Oct 2024) EndedAt: 2024-10-16 17:20:28 -0400 (Wed, 16 Oct 2024) EllapsedTime: 8.1 seconds RetCode: 0 Status: OK