Package: mitch Version: 1.16.1 Command: /Library/Frameworks/R.framework/Resources/bin/R CMD check --install=check:mitch.install-out.txt --library=/Library/Frameworks/R.framework/Resources/library --no-vignettes --timings mitch_1.16.1.tar.gz StartedAt: 2024-10-18 04:20:59 -0400 (Fri, 18 Oct 2024) EndedAt: 2024-10-18 04:25:11 -0400 (Fri, 18 Oct 2024) EllapsedTime: 252.0 seconds RetCode: 0 Status: OK CheckDir: mitch.Rcheck Warnings: 0