Package: mitch Version: 1.16.1 Command: /Library/Frameworks/R.framework/Resources/bin/R CMD build --keep-empty-dirs --no-resave-data mitch StartedAt: 2024-10-17 04:37:17 -0400 (Thu, 17 Oct 2024) EndedAt: 2024-10-17 04:43:44 -0400 (Thu, 17 Oct 2024) EllapsedTime: 387.2 seconds RetCode: 0 Status: OK PackageFile: mitch_1.16.1.tar.gz PackageFileSize: 995.8 KiB