Package: mitch Version: 1.16.1 Maintainer: Mark Ziemann MaintainerEmail: mark.ziemann at gmail.com git_url: https://git.bioconductor.org/packages/mitch git_branch: RELEASE_3_19 git_last_commit: 8d11f00 git_last_commit_date: 2024-09-03 21:49:32 -0400 (Tue, 03 Sep 2024)