Package: mistyR Version: 1.12.0 Command: rm -rf mistyR.buildbin-libdir && mkdir mistyR.buildbin-libdir && E:\biocbuild\bbs-3.19-bioc\R\bin\R.exe CMD INSTALL --build --library=mistyR.buildbin-libdir mistyR_1.12.0.tar.gz StartedAt: 2024-10-17 08:09:30 -0400 (Thu, 17 Oct 2024) EndedAt: 2024-10-17 08:09:41 -0400 (Thu, 17 Oct 2024) EllapsedTime: 11.1 seconds RetCode: 0 Status: OK PackageFile: mistyR_1.12.0.zip PackageFileSize: 2.889 MiB