Package: mistyR Version: 1.12.0 Command: chmod a+r mistyR -R && F:\biocbuild\bbs-3.19-bioc\R\bin\R.exe CMD build --keep-empty-dirs --no-resave-data mistyR StartedAt: 2024-06-26 20:07:01 -0400 (Wed, 26 Jun 2024) EndedAt: 2024-06-26 20:09:43 -0400 (Wed, 26 Jun 2024) EllapsedTime: 162.2 seconds RetCode: 0 Status: OK PackageFile: mistyR_1.12.0.tar.gz PackageFileSize: 2.785 MiB