Package: mistyR Version: 1.12.0 Command: /home/biocbuild/bbs-3.19-bioc/R/bin/R CMD build --keep-empty-dirs --no-resave-data mistyR StartedAt: 2024-10-16 19:31:35 -0400 (Wed, 16 Oct 2024) EndedAt: 2024-10-16 19:33:42 -0400 (Wed, 16 Oct 2024) EllapsedTime: 127.2 seconds RetCode: 0 Status: OK PackageFile: mistyR_1.12.0.tar.gz PackageFileSize: 2.922 MiB