Package: mistyR Version: 1.12.0 Command: /Library/Frameworks/R.framework/Resources/bin/R CMD build --keep-empty-dirs --no-resave-data mistyR StartedAt: 2024-06-09 17:18:10 -0400 (Sun, 09 Jun 2024) EndedAt: 2024-06-09 17:20:42 -0400 (Sun, 09 Jun 2024) EllapsedTime: 151.8 seconds RetCode: 0 Status: OK PackageFile: mistyR_1.12.0.tar.gz PackageFileSize: 3.097 MiB