Package: mistyR Version: 1.12.0 Command: /home/biocbuild/R/R-beta-2024-04-15_r86425/bin/R CMD check --install=check:mistyR.install-out.txt --library=/home/biocbuild/R/R-beta-2024-04-15_r86425/site-library --no-vignettes --timings mistyR_1.12.0.tar.gz StartedAt: 2024-05-09 09:33:09 -0000 (Thu, 09 May 2024) EndedAt: 2024-05-09 09:41:16 -0000 (Thu, 09 May 2024) EllapsedTime: 487.8 seconds RetCode: 1 Status: ERROR CheckDir: mistyR.Rcheck Warnings: NA