Package: mistyR Version: 1.12.0 Command: /Library/Frameworks/R.framework/Resources/bin/R CMD build --keep-empty-dirs --no-resave-data mistyR StartedAt: 2024-06-10 00:41:50 -0400 (Mon, 10 Jun 2024) EndedAt: 2024-06-10 00:45:39 -0400 (Mon, 10 Jun 2024) EllapsedTime: 228.2 seconds RetCode: 0 Status: OK PackageFile: mistyR_1.12.0.tar.gz PackageFileSize: 3.097 MiB