Package: mistyR Version: 1.12.0 Command: /Library/Frameworks/R.framework/Resources/bin/R CMD build --keep-empty-dirs --no-resave-data mistyR StartedAt: 2024-10-17 04:37:09 -0400 (Thu, 17 Oct 2024) EndedAt: 2024-10-17 04:40:06 -0400 (Thu, 17 Oct 2024) EllapsedTime: 176.7 seconds RetCode: 0 Status: OK PackageFile: mistyR_1.12.0.tar.gz PackageFileSize: 3.1 MiB