Package: mistyR Version: 1.12.0 Command: rm -rf mistyR.buildbin-libdir && mkdir mistyR.buildbin-libdir && /Users/biocbuild/BBS/utils/build-universal.sh mistyR_1.12.0.tar.gz /Library/Frameworks/R.framework/Resources/bin/R mistyR.buildbin-libdir StartedAt: 2024-10-18 19:29:27 -0400 (Fri, 18 Oct 2024) EndedAt: 2024-10-18 19:29:35 -0400 (Fri, 18 Oct 2024) EllapsedTime: 8.0 seconds RetCode: 0 Status: OK PackageFile: mistyR_1.12.0.tgz PackageFileSize: 3.204 MiB