Package: missRows Version: 1.24.0 Command: /home/biocbuild/bbs-3.19-bioc/R/bin/R CMD INSTALL missRows StartedAt: 2024-10-16 15:58:12 -0400 (Wed, 16 Oct 2024) EndedAt: 2024-10-16 15:58:38 -0400 (Wed, 16 Oct 2024) EllapsedTime: 25.7 seconds RetCode: 0 Status: OK