Package: missRows Version: 1.24.0 Command: /home/biocbuild/R/R-beta-2024-04-15_r86425/bin/R CMD build --keep-empty-dirs --no-resave-data missRows StartedAt: 2024-05-09 01:43:09 -0000 (Thu, 09 May 2024) EndedAt: 2024-05-09 01:45:04 -0000 (Thu, 09 May 2024) EllapsedTime: 114.1 seconds RetCode: 0 Status: OK PackageFile: missRows_1.24.0.tar.gz PackageFileSize: 578.6 KiB