Package: missRows Version: 1.24.0 Command: /Library/Frameworks/R.framework/Resources/bin/R CMD build --keep-empty-dirs --no-resave-data missRows StartedAt: 2024-10-17 04:34:49 -0400 (Thu, 17 Oct 2024) EndedAt: 2024-10-17 04:37:09 -0400 (Thu, 17 Oct 2024) EllapsedTime: 139.7 seconds RetCode: 0 Status: OK PackageFile: missRows_1.24.0.tar.gz PackageFileSize: 608.6 KiB