Package: missRows Version: 1.24.0 Maintainer: Gonzalez Ignacio MaintainerEmail: ignacio.gonzalez at bbox.fr git_url: https://git.bioconductor.org/packages/missRows git_branch: RELEASE_3_19 git_last_commit: 6ccea05 git_last_commit_date: 2024-04-30 11:05:34 -0400 (Tue, 30 Apr 2024)