Package: missMethyl Version: 1.38.0 Command: /home/biocbuild/bbs-3.19-bioc/R/bin/R CMD INSTALL missMethyl StartedAt: 2024-10-16 16:46:18 -0400 (Wed, 16 Oct 2024) EndedAt: 2024-10-16 16:49:23 -0400 (Wed, 16 Oct 2024) EllapsedTime: 185.7 seconds RetCode: 0 Status: OK