Package: missMethyl Version: 1.38.0 Command: /Library/Frameworks/R.framework/Resources/bin/R CMD check --install=check:missMethyl.install-out.txt --library=/Library/Frameworks/R.framework/Resources/library --no-vignettes --timings missMethyl_1.38.0.tar.gz StartedAt: 2024-10-17 08:52:56 -0400 (Thu, 17 Oct 2024) EndedAt: 2024-10-17 09:32:57 -0400 (Thu, 17 Oct 2024) EllapsedTime: 2400.5 seconds RetCode: None Status: TIMEOUT CheckDir: missMethyl.Rcheck Warnings: NA