Package: missMethyl Version: 1.38.0 Command: /home/biocbuild/R/R-beta-2024-04-15_r86425/bin/R CMD check --install=check:missMethyl.install-out.txt --library=/home/biocbuild/R/R-beta-2024-04-15_r86425/site-library --no-vignettes --timings missMethyl_1.38.0.tar.gz StartedAt: 2024-05-09 09:32:36 -0000 (Thu, 09 May 2024) EndedAt: 2024-05-09 09:53:22 -0000 (Thu, 09 May 2024) EllapsedTime: 1246.1 seconds RetCode: 0 Status: OK CheckDir: missMethyl.Rcheck Warnings: 0