Package: mirTarRnaSeq Version: 1.12.0 Command: E:\biocbuild\bbs-3.19-bioc\R\bin\R.exe CMD INSTALL mirTarRnaSeq StartedAt: 2024-10-16 16:08:53 -0400 (Wed, 16 Oct 2024) EndedAt: 2024-10-16 16:09:51 -0400 (Wed, 16 Oct 2024) EllapsedTime: 57.9 seconds RetCode: 0 Status: OK