Package: mirTarRnaSeq Version: 1.12.0 Command: F:\biocbuild\bbs-3.19-bioc\R\bin\R.exe CMD check --no-multiarch --install=check:mirTarRnaSeq.install-out.txt --library=F:\biocbuild\bbs-3.19-bioc\R\library --no-vignettes --timings mirTarRnaSeq_1.12.0.tar.gz StartedAt: 2024-06-27 03:42:59 -0400 (Thu, 27 Jun 2024) EndedAt: 2024-06-27 03:44:15 -0400 (Thu, 27 Jun 2024) EllapsedTime: 76.0 seconds RetCode: 0 Status: OK CheckDir: mirTarRnaSeq.Rcheck Warnings: 0