Package: mirTarRnaSeq Version: 1.12.0 Command: rm -rf mirTarRnaSeq.buildbin-libdir && mkdir mirTarRnaSeq.buildbin-libdir && F:\biocbuild\bbs-3.19-bioc\R\bin\R.exe CMD INSTALL --build --library=mirTarRnaSeq.buildbin-libdir mirTarRnaSeq_1.12.0.tar.gz StartedAt: 2024-06-27 08:31:17 -0400 (Thu, 27 Jun 2024) EndedAt: 2024-06-27 08:31:40 -0400 (Thu, 27 Jun 2024) EllapsedTime: 23.2 seconds RetCode: 0 Status: OK PackageFile: mirTarRnaSeq_1.12.0.zip PackageFileSize: 4.299 MiB