Package: mirTarRnaSeq Version: 1.12.0 Command: /Library/Frameworks/R.framework/Resources/bin/R CMD build --keep-empty-dirs --no-resave-data mirTarRnaSeq StartedAt: 2024-06-09 17:18:03 -0400 (Sun, 09 Jun 2024) EndedAt: 2024-06-09 17:21:26 -0400 (Sun, 09 Jun 2024) EllapsedTime: 203.4 seconds RetCode: 0 Status: OK PackageFile: mirTarRnaSeq_1.12.0.tar.gz PackageFileSize: 3.426 MiB